BEGIN:VCALENDAR
VERSION:2.0
PRODID:-//Musikschule Südsteiermark - ECPv6.15.16//NONSGML v1.0//EN
CALSCALE:GREGORIAN
METHOD:PUBLISH
X-ORIGINAL-URL:https://test2.musikschule-suedsteiermark.at
X-WR-CALDESC:Veranstaltungen für Musikschule Südsteiermark
REFRESH-INTERVAL;VALUE=DURATION:PT1H
X-Robots-Tag:noindex
X-PUBLISHED-TTL:PT1H
BEGIN:VTIMEZONE
TZID:UTC
BEGIN:STANDARD
TZOFFSETFROM:+0000
TZOFFSETTO:+0000
TZNAME:UTC
DTSTART:20250101T000000
END:STANDARD
END:VTIMEZONE
BEGIN:VEVENT
DTSTART;VALUE=DATE:20260501
DTEND;VALUE=DATE:20260502
DTSTAMP:20260419T142718
CREATED:20251220T140334Z
LAST-MODIFIED:20251220T140334Z
UID:23364646-1777593600-1777679999@test2.musikschule-suedsteiermark.at
SUMMARY:Staatsfeiertag
DESCRIPTION:
URL:https://test2.musikschule-suedsteiermark.at/event/staatsfeiertag/
LOCATION:Steiermark
CATEGORIES:Gesetzlicher Feiertag,Schulfrei - Schulferien
END:VEVENT
BEGIN:VEVENT
DTSTART;VALUE=DATE:20260514
DTEND;VALUE=DATE:20260515
DTSTAMP:20260419T142718
CREATED:20260301T134843Z
LAST-MODIFIED:20260301T134916Z
UID:23944887-1778716800-1778803199@test2.musikschule-suedsteiermark.at
SUMMARY:Christi Himmelfahrt
DESCRIPTION:
URL:https://test2.musikschule-suedsteiermark.at/event/christi-himmelfahrt/
LOCATION:Steiermark
CATEGORIES:Gesetzlicher Feiertag,Schulfrei - Schulferien
END:VEVENT
BEGIN:VEVENT
DTSTART;VALUE=DATE:20260515
DTEND;VALUE=DATE:20260516
DTSTAMP:20260419T142718
CREATED:20251220T135730Z
LAST-MODIFIED:20251220T135752Z
UID:23364632-1778803200-1778889599@test2.musikschule-suedsteiermark.at
SUMMARY:Schulfrei (lt. Verordnung der BD Stmk.)
DESCRIPTION:
URL:https://test2.musikschule-suedsteiermark.at/event/schulfrei-lt-verordnung-der-bd-stmk/
LOCATION:Steiermark
CATEGORIES:Schulferien,Schulfrei - Schulferien
END:VEVENT
BEGIN:VEVENT
DTSTART;VALUE=DATE:20260523
DTEND;VALUE=DATE:20260526
DTSTAMP:20260419T142718
CREATED:20251220T140435Z
LAST-MODIFIED:20251220T140435Z
UID:23364648-1779494400-1779753599@test2.musikschule-suedsteiermark.at
SUMMARY:Pfingstferien
DESCRIPTION:
URL:https://test2.musikschule-suedsteiermark.at/event/pfingstferien/
LOCATION:Steiermark
CATEGORIES:Gesetzlicher Feiertag,Schulfrei - Schulferien
END:VEVENT
END:VCALENDAR