BEGIN:VCALENDAR
VERSION:2.0
PRODID:-//Musikschule Südsteiermark - ECPv6.15.16//NONSGML v1.0//EN
CALSCALE:GREGORIAN
METHOD:PUBLISH
X-WR-CALNAME:Musikschule Südsteiermark
X-ORIGINAL-URL:https://test2.musikschule-suedsteiermark.at
X-WR-CALDESC:Veranstaltungen für Musikschule Südsteiermark
REFRESH-INTERVAL;VALUE=DURATION:PT1H
X-Robots-Tag:noindex
X-PUBLISHED-TTL:PT1H
BEGIN:VTIMEZONE
TZID:UTC
BEGIN:STANDARD
TZOFFSETFROM:+0000
TZOFFSETTO:+0000
TZNAME:UTC
DTSTART:20250101T000000
END:STANDARD
END:VTIMEZONE
BEGIN:VEVENT
DTSTART;TZID=UTC:20260624T173000
DTEND;TZID=UTC:20260624T193000
DTSTAMP:20260419T193522
CREATED:20260301T135534Z
LAST-MODIFIED:20260301T135534Z
UID:23944899-1782322200-1782329400@test2.musikschule-suedsteiermark.at
SUMMARY:Abschlusskonzert
DESCRIPTION:Kultursaal Straß
URL:https://test2.musikschule-suedsteiermark.at/event/abschlusskonzert-3/
LOCATION:Kultursaal Straß\, Attemsallee 2a\, Straß\, Steiermark\, 8472\, Austria
CATEGORIES:Auftrittspraktika (AP),Konzert / Musikrezeption
END:VEVENT
END:VCALENDAR