BEGIN:VCALENDAR
VERSION:2.0
PRODID:-//Musikschule Südsteiermark - ECPv6.15.16//NONSGML v1.0//EN
CALSCALE:GREGORIAN
METHOD:PUBLISH
X-WR-CALNAME:Musikschule Südsteiermark
X-ORIGINAL-URL:https://test2.musikschule-suedsteiermark.at
X-WR-CALDESC:Veranstaltungen für Musikschule Südsteiermark
REFRESH-INTERVAL;VALUE=DURATION:PT1H
X-Robots-Tag:noindex
X-PUBLISHED-TTL:PT1H
BEGIN:VTIMEZONE
TZID:UTC
BEGIN:STANDARD
TZOFFSETFROM:+0000
TZOFFSETTO:+0000
TZNAME:UTC
DTSTART:20250101T000000
END:STANDARD
END:VTIMEZONE
BEGIN:VEVENT
DTSTART;TZID=UTC:20260416T173000
DTEND;TZID=UTC:20260416T193000
DTSTAMP:20260419T160417
CREATED:20260301T134710Z
LAST-MODIFIED:20260301T134710Z
UID:23944885-1776360600-1776367800@test2.musikschule-suedsteiermark.at
SUMMARY:3. Musikschulkonzert
DESCRIPTION:Volksschule Lang
URL:https://test2.musikschule-suedsteiermark.at/event/3-musikschulkonzert-6/
LOCATION:VS Lang\, Lang 6\, Lang\, Steiermark\, 8403
CATEGORIES:Auftrittspraktika (AP),Konzert / Musikrezeption
END:VEVENT
END:VCALENDAR