BEGIN:VCALENDAR
VERSION:2.0
PRODID:-//Musikschule Südsteiermark - ECPv6.15.16//NONSGML v1.0//EN
CALSCALE:GREGORIAN
METHOD:PUBLISH
X-WR-CALNAME:Musikschule Südsteiermark
X-ORIGINAL-URL:https://test2.musikschule-suedsteiermark.at
X-WR-CALDESC:Veranstaltungen für Musikschule Südsteiermark
REFRESH-INTERVAL;VALUE=DURATION:PT1H
X-Robots-Tag:noindex
X-PUBLISHED-TTL:PT1H
BEGIN:VTIMEZONE
TZID:UTC
BEGIN:STANDARD
TZOFFSETFROM:+0000
TZOFFSETTO:+0000
TZNAME:UTC
DTSTART:20250101T000000
END:STANDARD
END:VTIMEZONE
BEGIN:VEVENT
DTSTART;TZID=UTC:20260414T173000
DTEND;TZID=UTC:20260414T193000
DTSTAMP:20260419T160417
CREATED:20260301T134205Z
LAST-MODIFIED:20260301T134206Z
UID:23944875-1776187800-1776195000@test2.musikschule-suedsteiermark.at
SUMMARY:3. Musikschulkonzert
DESCRIPTION:
URL:https://test2.musikschule-suedsteiermark.at/event/3-musikschulkonzert-2/
LOCATION:Musikheim Straß\, Hauptstraße 56c\, Straß\, Steiermark\, 8472\, Austria
CATEGORIES:Auftrittspraktika (AP),Konzert / Musikrezeption
END:VEVENT
BEGIN:VEVENT
DTSTART;TZID=UTC:20260414T173000
DTEND;TZID=UTC:20260414T193000
DTSTAMP:20260419T160417
CREATED:20260301T134327Z
LAST-MODIFIED:20260301T134327Z
UID:23944877-1776187800-1776195000@test2.musikschule-suedsteiermark.at
SUMMARY:3. Musikschulkonzert
DESCRIPTION:Musikheim Straß
URL:https://test2.musikschule-suedsteiermark.at/event/3-musikschulkonzert-3/
LOCATION:Musikheim Straß\, Hauptstraße 56c\, Straß\, Steiermark\, 8472\, Austria
CATEGORIES:Auftrittspraktika (AP),Konzert / Musikrezeption
END:VEVENT
END:VCALENDAR